BEGIN:VCALENDAR
VERSION:2.0
PRODID:-//Squarespace Inc/Squarespace 6//v6//EN
BEGIN:VEVENT
UID:5de98f9dea8b503d27416606@squarespace.com
DTSTAMP:20191205T231601Z
DTSTART:20191207T083000Z
DTEND:20191207T120000Z
SUMMARY:Don't Tell Mama
END:VEVENT
END:VCALENDAR
