BEGIN:VCALENDAR
VERSION:2.0
PRODID:-//Squarespace Inc/Squarespace 6//v6//EN
BEGIN:VEVENT
UID:5de98f7c669e4706e0572d1e@squarespace.com
DTSTAMP:20191205T231529Z
DTSTART:20191206T083000Z
DTEND:20191206T120000Z
SUMMARY:Reckless Duo
END:VEVENT
END:VCALENDAR
