BEGIN:VCALENDAR
VERSION:2.0
PRODID:-//Squarespace Inc/Squarespace 6//v6//EN
BEGIN:VEVENT
UID:5dad0e9c7fa9ab448cab5087@squarespace.com
DTSTAMP:20191021T014941Z
DTSTART:20191231T080000Z
DTEND:20191231T130000Z
SUMMARY:Red Zone
END:VEVENT
END:VCALENDAR
