BEGIN:VCALENDAR
VERSION:2.0
PRODID:-//Squarespace Inc/Squarespace 6//v6//EN
BEGIN:VEVENT
UID:5de990f5e0ccc2269c400d58@squarespace.com
DTSTAMP:20191205T232153Z
DTSTART:20191228T083000Z
DTEND:20191228T120000Z
SUMMARY:Misconduct
END:VEVENT
END:VCALENDAR
