BEGIN:VCALENDAR
VERSION:2.0
PRODID:-//Squarespace Inc/Squarespace 6//v6//EN
BEGIN:VEVENT
UID:5de990c5669e4706e0575f83@squarespace.com
DTSTAMP:20191205T232112Z
DTSTART:20191227T083000Z
DTEND:20191227T120000Z
SUMMARY:Flat City Brotherhood
END:VEVENT
END:VCALENDAR
