BEGIN:VCALENDAR
VERSION:2.0
PRODID:-//Squarespace Inc/Squarespace 6//v6//EN
BEGIN:VEVENT
UID:5de98f41e0ccc2269c3fcc63@squarespace.com
DTSTAMP:20191205T231421Z
DTSTART:20191225T233000Z
DTEND:20191226T003000Z
SUMMARY:Open from 12pm
END:VEVENT
END:VCALENDAR
