BEGIN:VCALENDAR
VERSION:2.0
PRODID:-//Squarespace Inc/Squarespace 6//v6//EN
BEGIN:VEVENT
UID:5de98f57ea8b503d27415b9f@squarespace.com
DTSTAMP:20191205T231455Z
DTSTART:20191224T233000Z
DTEND:20191225T003000Z
SUMMARY:Closed. Merry Christmas.
END:VEVENT
END:VCALENDAR
