BEGIN:VCALENDAR
VERSION:2.0
PRODID:-//Squarespace Inc/Squarespace 6//v6//EN
BEGIN:VEVENT
UID:5de9904b882c696c1cee2083@squarespace.com
DTSTAMP:20191205T232025Z
DTSTART:20191222T020000Z
DTEND:20191222T100000Z
SUMMARY:Ugly Jumper / Top Xmas Party.  LIve Music from 4pm
END:VEVENT
END:VCALENDAR
