BEGIN:VCALENDAR
VERSION:2.0
PRODID:-//Squarespace Inc/Squarespace 6//v6//EN
BEGIN:VEVENT
UID:5de9901596bd8d4d44df8803@squarespace.com
DTSTAMP:20191205T231813Z
DTSTART:20191221T083000Z
DTEND:20191221T120000Z
SUMMARY:Awesome Source
END:VEVENT
END:VCALENDAR
