BEGIN:VCALENDAR
VERSION:2.0
PRODID:-//Squarespace Inc/Squarespace 6//v6//EN
BEGIN:VEVENT
UID:5de98ffbe93952558c774fd4@squarespace.com
DTSTAMP:20191205T231730Z
DTSTART:20191220T083000Z
DTEND:20191220T120000Z
SUMMARY:The Meaniez
END:VEVENT
END:VCALENDAR
