BEGIN:VCALENDAR
VERSION:2.0
PRODID:-//Squarespace Inc/Squarespace 6//v6//EN
BEGIN:VEVENT
UID:5de98fd9e0ccc2269c3fe430@squarespace.com
DTSTAMP:20191205T231701Z
DTSTART:20191214T083000Z
DTEND:20191214T123000Z
SUMMARY:Old Skool
END:VEVENT
END:VCALENDAR
