BEGIN:VCALENDAR
VERSION:2.0
PRODID:-//Squarespace Inc/Squarespace 6//v6//EN
BEGIN:VEVENT
UID:5de98fbf882c696c1cee0cc1@squarespace.com
DTSTAMP:20191205T231629Z
DTSTART:20191213T083000Z
DTEND:20191213T120000Z
SUMMARY:X Files
END:VEVENT
END:VCALENDAR
