BEGIN:VCALENDAR
VERSION:2.0
PRODID:-//Squarespace Inc/Squarespace 6//v6//EN
BEGIN:VEVENT
UID:5dad0c5325e2af536e071eeb@squarespace.com
DTSTAMP:20191021T013948Z
DTSTART:20191109T083000Z
DTEND:20191109T120000Z
SUMMARY:Decoy Duck
END:VEVENT
END:VCALENDAR
