BEGIN:VCALENDAR
VERSION:2.0
PRODID:-//Squarespace Inc/Squarespace 6//v6//EN
BEGIN:VEVENT
UID:5dad0c36ca99491c9a6d70d8@squarespace.com
DTSTAMP:20191021T013919Z
DTSTART:20191108T083000Z
DTEND:20191108T120000Z
SUMMARY:Red Zone
END:VEVENT
END:VCALENDAR
