BEGIN:VCALENDAR
VERSION:2.0
PRODID:-//Squarespace Inc/Squarespace 6//v6//EN
BEGIN:VEVENT
UID:5dad0e123f6e9725bbeb80c3@squarespace.com
DTSTAMP:20191021T014720Z
DTSTART:20191130T083000Z
DTEND:20191130T120000Z
SUMMARY:Awesome Source
END:VEVENT
END:VCALENDAR
