BEGIN:VCALENDAR
VERSION:2.0
PRODID:-//Squarespace Inc/Squarespace 6//v6//EN
BEGIN:VEVENT
UID:5dad0df3ca99491c9a6d8672@squarespace.com
DTSTAMP:20191021T014646Z
DTSTART:20191129T083000Z
DTEND:20191129T120000Z
SUMMARY:Decoy Duck
END:VEVENT
END:VCALENDAR
