BEGIN:VCALENDAR
VERSION:2.0
PRODID:-//Squarespace Inc/Squarespace 6//v6//EN
BEGIN:VEVENT
UID:5dad0cd9aa1e3231b4d6b2af@squarespace.com
DTSTAMP:20191021T014615Z
DTSTART:20191123T083000Z
DTEND:20191123T120000Z
SUMMARY:Absolut Duo
END:VEVENT
END:VCALENDAR
