BEGIN:VCALENDAR
VERSION:2.0
PRODID:-//Squarespace Inc/Squarespace 6//v6//EN
BEGIN:VEVENT
UID:5dad0caaaa1e3231b4d6b0ed@squarespace.com
DTSTAMP:20191021T014125Z
DTSTART:20191122T083000Z
DTEND:20191122T120000Z
SUMMARY:Wired
END:VEVENT
END:VCALENDAR
