BEGIN:VCALENDAR
VERSION:2.0
PRODID:-//Squarespace Inc/Squarespace 6//v6//EN
BEGIN:VEVENT
UID:5dad0c8dca3a6955cc253fd4@squarespace.com
DTSTAMP:20191021T014047Z
DTSTART:20191116T083000Z
DTEND:20191116T120000Z
SUMMARY:Flat City Brotherhood
END:VEVENT
END:VCALENDAR
