BEGIN:VCALENDAR
VERSION:2.0
PRODID:-//Squarespace Inc/Squarespace 6//v6//EN
BEGIN:VEVENT
UID:5dad0c7073275234da80b94c@squarespace.com
DTSTAMP:20191021T014019Z
DTSTART:20191115T083000Z
DTEND:20191115T120000Z
SUMMARY:Reckless Duo
END:VEVENT
END:VCALENDAR
