BEGIN:VCALENDAR
VERSION:2.0
PRODID:-//Squarespace Inc/Squarespace 6//v6//EN
BEGIN:VEVENT
UID:5dad0bf6aa1e3231b4d6a6a8@squarespace.com
DTSTAMP:20191021T013823Z
DTSTART:20191114T083000Z
DTEND:20191114T120000Z
SUMMARY:X Files
END:VEVENT
END:VCALENDAR
