BEGIN:VCALENDAR
VERSION:2.0
PRODID:-//Squarespace Inc/Squarespace 6//v6//EN
BEGIN:VEVENT
UID:5dad0a6afe152f3a7aa51d00@squarespace.com
DTSTAMP:20191021T013146Z
DTSTART:20191112T040000Z
DTEND:20191112T100000Z
SUMMARY:The Meaniez
END:VEVENT
END:VCALENDAR
