BEGIN:VCALENDAR
VERSION:2.0
PRODID:-//Squarespace Inc/Squarespace 6//v6//EN
BEGIN:VEVENT
UID:5dad0bc28f55ab275d829063@squarespace.com
DTSTAMP:20191021T013722Z
DTSTART:20191121T060000Z
DTEND:20191121T100000Z
SUMMARY:Learn to Rock N Roll
END:VEVENT
END:VCALENDAR
