BEGIN:VCALENDAR
VERSION:2.0
PRODID:-//Squarespace Inc/Squarespace 6//v6//EN
BEGIN:VEVENT
UID:5dad0bddca3a6955cc25373d@squarespace.com
DTSTAMP:20191205T231118Z
DTSTART:20191205T060000Z
DTEND:20191205T100000Z
SUMMARY:Learn to Rock N Roll
END:VEVENT
END:VCALENDAR
