BEGIN:VCALENDAR
VERSION:2.0
PRODID:-//Squarespace Inc/Squarespace 6//v6//EN
BEGIN:VEVENT
UID:5de98ea58262334526676dba@squarespace.com
DTSTAMP:20191205T231144Z
DTSTART:20191212T060000Z
DTEND:20191212T100000Z
SUMMARY:Learn to Rock N Roll
END:VEVENT
END:VCALENDAR
