BEGIN:VCALENDAR
VERSION:2.0
PRODID:-//Squarespace Inc/Squarespace 6//v6//EN
BEGIN:VEVENT
UID:5de98f26f2f83707bbf00c81@squarespace.com
DTSTAMP:20191205T231356Z
DTSTART:20191219T060000Z
DTEND:20191219T100000Z
SUMMARY:Learn to Rock N Roll
END:VEVENT
END:VCALENDAR
