BEGIN:VCALENDAR
VERSION:2.0
PRODID:-//Squarespace Inc/Squarespace 6//v6//EN
BEGIN:VEVENT
UID:5dad0abe73275234da809c9b@squarespace.com
DTSTAMP:20191021T013601Z
DTSTART:20191120T063000Z
DTEND:20191120T093000Z
SUMMARY:Karaoke with Lance
END:VEVENT
END:VCALENDAR
