BEGIN:VCALENDAR
VERSION:2.0
PRODID:-//Squarespace Inc/Squarespace 6//v6//EN
BEGIN:VEVENT
UID:5dad0b8e73275234da80addf@squarespace.com
DTSTAMP:20191021T013626Z
DTSTART:20191127T063000Z
DTEND:20191127T093000Z
SUMMARY:Karaoke with Lance
END:VEVENT
END:VCALENDAR
