BEGIN:VCALENDAR
VERSION:2.0
PRODID:-//Squarespace Inc/Squarespace 6//v6//EN
BEGIN:VEVENT
UID:5dad0aa825e2af536e070420@squarespace.com
DTSTAMP:20191021T013538Z
DTSTART:20191113T063000Z
DTEND:20191113T093000Z
SUMMARY:Karaoke with Lance
END:VEVENT
END:VCALENDAR
