BEGIN:VCALENDAR
VERSION:2.0
PRODID:-//Squarespace Inc/Squarespace 6//v6//EN
BEGIN:VEVENT
UID:5dad0a53aa1e3231b4d68d0e@squarespace.com
DTSTAMP:20191021T013112Z
DTSTART:20191126T060000Z
DTEND:20191126T083000Z
SUMMARY:Quiz Nite with Believe it or Not
END:VEVENT
END:VCALENDAR
