BEGIN:VCALENDAR
VERSION:2.0
PRODID:-//Squarespace Inc/Squarespace 6//v6//EN
BEGIN:VEVENT
UID:5de98d8b501acc75193df118@squarespace.com
DTSTAMP:20191205T230804Z
DTSTART:20191203T060000Z
DTEND:20191203T083000Z
SUMMARY:Quiz Nite with Believe it or Not
END:VEVENT
END:VCALENDAR
