BEGIN:VCALENDAR
VERSION:2.0
PRODID:-//Squarespace Inc/Squarespace 6//v6//EN
BEGIN:VEVENT
UID:5de98de0501acc75193dfcbe@squarespace.com
DTSTAMP:20191205T230836Z
DTSTART:20191210T060000Z
DTEND:20191210T083000Z
SUMMARY:Quiz Nite with Believe it or Not
END:VEVENT
END:VCALENDAR
