BEGIN:VCALENDAR
VERSION:2.0
PRODID:-//Squarespace Inc/Squarespace 6//v6//EN
BEGIN:VEVENT
UID:5de98e266a0a4e61c62c92c9@squarespace.com
DTSTAMP:20191205T230940Z
DTSTART:20191217T060000Z
DTEND:20191217T083000Z
SUMMARY:Quiz Nite with Believe it or Not
END:VEVENT
END:VCALENDAR
