BEGIN:VCALENDAR
VERSION:2.0
PRODID:-//Squarespace Inc/Squarespace 6//v6//EN
BEGIN:VEVENT
UID:5dad0a38aa1e3231b4d68bcf@squarespace.com
DTSTAMP:20191021T013046Z
DTSTART:20191119T060000Z
DTEND:20191119T083000Z
SUMMARY:Quiz Nite with Believe it or Not
END:VEVENT
END:VCALENDAR
