BEGIN:VCALENDAR
VERSION:2.0
PRODID:-//Squarespace Inc/Squarespace 6//v6//EN
BEGIN:VEVENT
UID:5dad09827fa9ab448cab0dee@squarespace.com
DTSTAMP:20191021T012743Z
DTSTART:20191111T040000Z
DTEND:20191111T070000Z
SUMMARY:Board Game Night
END:VEVENT
END:VCALENDAR
