BEGIN:VCALENDAR
VERSION:2.0
PRODID:-//Squarespace Inc/Squarespace 6//v6//EN
BEGIN:VEVENT
UID:5dad09b53f6e9725bbeb40f8@squarespace.com
DTSTAMP:20191021T012838Z
DTSTART:20191125T040000Z
DTEND:20191125T070000Z
SUMMARY:Board Game Night
END:VEVENT
END:VCALENDAR
