BEGIN:VCALENDAR
VERSION:2.0
PRODID:-//Squarespace Inc/Squarespace 6//v6//EN
BEGIN:VEVENT
UID:5dd73f15f0547d640c7edf37@squarespace.com
DTSTAMP:20191122T015131Z
DTSTART:20191209T040000Z
DTEND:20191209T070000Z
SUMMARY:Board Game Night
END:VEVENT
END:VCALENDAR
