BEGIN:VCALENDAR
VERSION:2.0
PRODID:-//Squarespace Inc/Squarespace 6//v6//EN
BEGIN:VEVENT
UID:5dd73ef68fff286a0eb7fa23@squarespace.com
DTSTAMP:20191122T015103Z
DTSTART:20191202T040000Z
DTEND:20191202T070000Z
SUMMARY:Board Game Night
END:VEVENT
END:VCALENDAR
