BEGIN:VCALENDAR
VERSION:2.0
PRODID:-//Squarespace Inc/Squarespace 6//v6//EN
BEGIN:VEVENT
UID:5dad0999aa1e3231b4d683e6@squarespace.com
DTSTAMP:20191021T012807Z
DTSTART:20191118T040000Z
DTEND:20191118T070000Z
SUMMARY:Board Game Night
END:VEVENT
END:VCALENDAR
