BEGIN:VCALENDAR
VERSION:2.0
PRODID:-//Squarespace Inc/Squarespace 6//v6//EN
BEGIN:VEVENT
UID:5760bcd5b654f92c3b13cf44@squarespace.com
DTSTAMP:20160615T022648Z
DTSTART:20160702T093000Z
DTEND:20160702T130000Z
SUMMARY:Tri Zone
END:VEVENT
END:VCALENDAR
