BEGIN:VCALENDAR
VERSION:2.0
PRODID:-//Squarespace Inc/Squarespace 6//v6//EN
BEGIN:VEVENT
UID:5760bc85c2ea515f2b29ef6b@squarespace.com
DTSTAMP:20160615T022524Z
DTSTART:20160628T073000Z
DTEND:20160628T103000Z
SUMMARY:Quiz Night
END:VEVENT
END:VCALENDAR
