BEGIN:VCALENDAR
VERSION:2.0
PRODID:-//Squarespace Inc/Squarespace 6//v6//EN
BEGIN:VEVENT
UID:5760bbce9f7266136067aa41@squarespace.com
DTSTAMP:20160615T022226Z
DTSTART:20160627T070000Z
DTEND:20160627T100000Z
SUMMARY:Texas Holdem
END:VEVENT
END:VCALENDAR
