BEGIN:VCALENDAR
VERSION:2.0
PRODID:-//Squarespace Inc/Squarespace 6//v6//EN
BEGIN:VEVENT
UID:5760bbb02eeb818004187a95@squarespace.com
DTSTAMP:20160615T022157Z
DTSTART:20160625T093000Z
DTEND:20160625T130000Z
SUMMARY:Absolut Duo
END:VEVENT
END:VCALENDAR
