BEGIN:VCALENDAR
VERSION:2.0
PRODID:-//Squarespace Inc/Squarespace 6//v6//EN
BEGIN:VEVENT
UID:5760bb969f7266136067a91a@squarespace.com
DTSTAMP:20160615T022126Z
DTSTART:20160624T093000Z
DTEND:20160624T130000Z
SUMMARY:Don't Tell Mama
END:VEVENT
END:VCALENDAR
