BEGIN:VCALENDAR
VERSION:2.0
PRODID:-//Squarespace Inc/Squarespace 6//v6//EN
BEGIN:VEVENT
UID:5760bb829f7266136067a8ac@squarespace.com
DTSTAMP:20160615T022103Z
DTSTART:20160623T083000Z
DTEND:20160623T113000Z
SUMMARY:Nick Lee
END:VEVENT
END:VCALENDAR
