BEGIN:VCALENDAR
VERSION:2.0
PRODID:-//Squarespace Inc/Squarespace 6//v6//EN
BEGIN:VEVENT
UID:5760bb6b9f7266136067a7f3@squarespace.com
DTSTAMP:20160615T022042Z
DTSTART:20160622T080000Z
DTEND:20160622T110000Z
SUMMARY:Karaoke with lance
END:VEVENT
END:VCALENDAR
