BEGIN:VCALENDAR
VERSION:2.0
PRODID:-//Squarespace Inc/Squarespace 6//v6//EN
BEGIN:VEVENT
UID:5760bb4d9f7266136067a759@squarespace.com
DTSTAMP:20160615T022019Z
DTSTART:20160621T073000Z
DTEND:20160621T103000Z
SUMMARY:Quiz Night
END:VEVENT
END:VCALENDAR
