BEGIN:VCALENDAR
VERSION:2.0
PRODID:-//Squarespace Inc/Squarespace 6//v6//EN
BEGIN:VEVENT
UID:5760bb2c9f7266136067a69c@squarespace.com
DTSTAMP:20160615T021942Z
DTSTART:20160620T070000Z
DTEND:20160620T100000Z
SUMMARY:Texas Holdem
END:VEVENT
END:VCALENDAR
