BEGIN:VCALENDAR
VERSION:2.0
PRODID:-//Squarespace Inc/Squarespace 6//v6//EN
BEGIN:VEVENT
UID:5760bb0c2eeb818004187763@squarespace.com
DTSTAMP:20160615T021915Z
DTSTART:20160618T093000Z
DTEND:20160618T130000Z
SUMMARY:Flat City Brotherhood
END:VEVENT
END:VCALENDAR
