BEGIN:VCALENDAR
VERSION:2.0
PRODID:-//Squarespace Inc/Squarespace 6//v6//EN
BEGIN:VEVENT
UID:5760bae92eeb8180041876b9@squarespace.com
DTSTAMP:20160615T021839Z
DTSTART:20160617T090000Z
DTEND:20160617T130000Z
SUMMARY:Reckless Duo
END:VEVENT
END:VCALENDAR
